BEGIN:VCALENDAR
VERSION:2.0
PRODID:-//RIGHTHERE//CALENDARIZE IT V3.2//EN
BEGIN:VTIMEZONE
TZID:America/Detroit
BEGIN:STANDARD
DTSTART:20251102T060000
TZOFFSETFROM:-0400
TZOFFSETTO:-0500
TZNAME:EST
END:STANDARD
BEGIN:DAYLIGHT
DTSTART:20260308T070000
TZOFFSETFROM:-0500
TZOFFSETTO:-0400
TZNAME:EDT
END:DAYLIGHT
BEGIN:STANDARD
DTSTART:20261101T060000
TZOFFSETFROM:-0400
TZOFFSETTO:-0500
TZNAME:EST
END:STANDARD
END:VTIMEZONE
BEGIN:VEVENT
UID:5340-events@smcpl.org
DTSTART;TZID=America/Detroit:20240814T180000
DTEND;TZID=America/Detroit:20240814T190000
DTSTAMP;TZID=America/Detroit:20240903T161008
SUMMARY:SMCPL Teen Writing October and November
EXDATE:20240814T220000Z
RDATE;TZID=America/Detroit;VALUE=PERIOD:20241009T180000/20241009T190000,202
 41016T180000/20241016T190000,20241023T180000/20241023T190000,20241030T1800
 00/20241030T190000,20241106T180000/20241106T190000,20241113T180000/2024111
 3T190000
URL:https://smcpl.org/events/smcpl-teen-writing-october-november-2024/
LOCATION:St. Marys Community Public Library\, 140 S. Chestnut Street\, St. 
 Marys\, Ohio 45885
END:VEVENT
END:VCALENDAR