BEGIN:VCALENDAR
VERSION:2.0
PRODID:-//RIGHTHERE//CALENDARIZE IT V3.2//EN
BEGIN:VTIMEZONE
TZID:America/Detroit
BEGIN:STANDARD
DTSTART:20251102T060000
TZOFFSETFROM:-0400
TZOFFSETTO:-0500
TZNAME:EST
END:STANDARD
BEGIN:DAYLIGHT
DTSTART:20260308T070000
TZOFFSETFROM:-0500
TZOFFSETTO:-0400
TZNAME:EDT
END:DAYLIGHT
BEGIN:STANDARD
DTSTART:20261101T060000
TZOFFSETFROM:-0400
TZOFFSETTO:-0500
TZNAME:EST
END:STANDARD
END:VTIMEZONE
BEGIN:VEVENT
UID:5378-events@smcpl.org
DTSTART;TZID=America/Detroit:20241127T170000
DTEND;TZID=America/Detroit:20241127T190000
DTSTAMP;TZID=America/Detroit:20241007T112351
SUMMARY:Closed for Thanksgiving 2024
RDATE;TZID=America/Detroit;VALUE=PERIOD:20241128T100000/20241128T190000,202
 41129T100000/20241129T190000
URL:https://smcpl.org/events/closed-for-thanksgiving-2024/
LOCATION:St. Marys Community Public Library\, 140 S. Chestnut Street\, St. 
 Marys\, Ohio 45885
END:VEVENT
END:VCALENDAR