BEGIN:VCALENDAR
VERSION:2.0
PRODID:-//RIGHTHERE//CALENDARIZE IT V3.2//EN
BEGIN:VTIMEZONE
TZID:America/Detroit
BEGIN:STANDARD
DTSTART:20251102T060000
TZOFFSETFROM:-0400
TZOFFSETTO:-0500
TZNAME:EST
END:STANDARD
BEGIN:DAYLIGHT
DTSTART:20260308T070000
TZOFFSETFROM:-0500
TZOFFSETTO:-0400
TZNAME:EDT
END:DAYLIGHT
BEGIN:STANDARD
DTSTART:20261101T060000
TZOFFSETFROM:-0400
TZOFFSETTO:-0500
TZNAME:EST
END:STANDARD
END:VTIMEZONE
BEGIN:VEVENT
UID:5381-events@smcpl.org
DTSTART;VALUE=DATE:20241224
DTEND;VALUE=DATE:20241224
DTSTAMP;TZID=America/Detroit:20241007T114912
SUMMARY:Closed for the Holiday
RDATE;TZID=America/Detroit;VALUE=PERIOD:20241225T000000/20241225T000000
URL:https://smcpl.org/events/closed-for-the-holiday-2/
LOCATION:St. Marys Community Public Library\, 140 S. Chestnut Street\, St. 
 Marys\, Ohio 45885
END:VEVENT
END:VCALENDAR