BEGIN:VCALENDAR
VERSION:2.0
PRODID:-//RIGHTHERE//CALENDARIZE IT V3.2//EN
BEGIN:VTIMEZONE
TZID:America/Detroit
BEGIN:STANDARD
DTSTART:20251102T060000
TZOFFSETFROM:-0400
TZOFFSETTO:-0500
TZNAME:EST
END:STANDARD
BEGIN:DAYLIGHT
DTSTART:20260308T070000
TZOFFSETFROM:-0500
TZOFFSETTO:-0400
TZNAME:EDT
END:DAYLIGHT
BEGIN:STANDARD
DTSTART:20261101T060000
TZOFFSETFROM:-0400
TZOFFSETTO:-0500
TZNAME:EST
END:STANDARD
END:VTIMEZONE
BEGIN:VEVENT
UID:5417-events@smcpl.org
DTSTART;TZID=America/Detroit:20241127T170000
DTEND;TZID=America/Detroit:20241127T190000
DTSTAMP;TZID=America/Detroit:20241028T164046
SUMMARY:Closed for Building Inprovement
EXDATE:20241127T210000Z
RDATE;TZID=America/Detroit;VALUE=PERIOD:20241130T100000/20241130T170000,202
 41202T100000/20241202T170000,20241203T100000/20241203T170000,20241204T1000
 00/20241204T170000
URL:https://smcpl.org/events/closed-for-building-inprovement/
LOCATION:St. Marys Community Public Library\, 140 S. Chestnut Street\, St. 
 Marys\, Ohio 45885
END:VEVENT
END:VCALENDAR