BEGIN:VCALENDAR
VERSION:2.0
PRODID:-//RIGHTHERE//CALENDARIZE IT V3.2//EN
BEGIN:VTIMEZONE
TZID:America/Detroit
BEGIN:STANDARD
DTSTART:20251102T060000
TZOFFSETFROM:-0400
TZOFFSETTO:-0500
TZNAME:EST
END:STANDARD
BEGIN:DAYLIGHT
DTSTART:20260308T070000
TZOFFSETFROM:-0500
TZOFFSETTO:-0400
TZNAME:EDT
END:DAYLIGHT
BEGIN:STANDARD
DTSTART:20261101T060000
TZOFFSETFROM:-0400
TZOFFSETTO:-0500
TZNAME:EST
END:STANDARD
END:VTIMEZONE
BEGIN:VEVENT
UID:5421-events@smcpl.org
DTSTART;TZID=America/Detroit:20241209T173000
DTEND;TZID=America/Detroit:20241209T000000
DTSTAMP;TZID=America/Detroit:20241028T185052
SUMMARY:Winter Open House 2024
URL:https://smcpl.org/events/winter-open-house-2024/
END:VEVENT
END:VCALENDAR