BEGIN:VCALENDAR
VERSION:2.0
PRODID:-//RIGHTHERE//CALENDARIZE IT V3.2//EN
BEGIN:VTIMEZONE
TZID:America/Detroit
BEGIN:STANDARD
DTSTART:20251102T060000
TZOFFSETFROM:-0400
TZOFFSETTO:-0500
TZNAME:EST
END:STANDARD
BEGIN:DAYLIGHT
DTSTART:20260308T070000
TZOFFSETFROM:-0500
TZOFFSETTO:-0400
TZNAME:EDT
END:DAYLIGHT
BEGIN:STANDARD
DTSTART:20261101T060000
TZOFFSETFROM:-0400
TZOFFSETTO:-0500
TZNAME:EST
END:STANDARD
END:VTIMEZONE
BEGIN:VEVENT
UID:5473-events@smcpl.org
DTSTART;TZID=America/Detroit:20250108T103000
DTEND;TZID=America/Detroit:20250108T110000
DTSTAMP;TZID=America/Detroit:20241209T114509
SUMMARY:Preschool Story Time Winter 2025
RDATE;TZID=America/Detroit;VALUE=PERIOD:20250115T103000/20250115T110000,202
 50122T103000/20250122T110000,20250129T103000/20250129T110000,20250205T1030
 00/20250205T110000,20250212T103000/20250212T110000,20250219T103000/2025021
 9T110000,20250226T103000/20250226T110000
URL:https://smcpl.org/events/preschool-story-time-winter-2025/
LOCATION:St. Marys Community Public Library\, 140 S. Chestnut Street\, St. 
 Marys\, Ohio 45885
END:VEVENT
END:VCALENDAR